BEGIN:VCALENDAR
METHOD:PUBLISH
PRODID:-//Weblication CMS
VERSION:2.0
BEGIN:VEVENT
SUMMARY:Schulfest Kirchbühl
DTSTART:20260625T170000
DTEND:20260625T200000
DESCRIPTION:
LOCATION:
UID:http://steffisburg.gemeinde.ch/schule/veranstaltungen/termine/Schulfest-Kirchbuehl-26.php
URL:http://steffisburg.gemeinde.ch/schule/veranstaltungen/termine/Schulfest-Kirchbuehl-26.php
END:VEVENT
END:VCALENDAR