BEGIN:VCALENDAR
METHOD:PUBLISH
PRODID:-//Weblication CMS
VERSION:2.0
BEGIN:VEVENT
SUMMARY:Plauschturnier, PS Schönau
DTSTART:20260703T080000
DTEND:20260703T110000
DESCRIPTION:
LOCATION:
UID:http://steffisburg.gemeinde.ch/schule/veranstaltungen/termine/Plauschturnier-PS-Schoenau.php
URL:http://steffisburg.gemeinde.ch/schule/veranstaltungen/termine/Plauschturnier-PS-Schoenau.php
END:VEVENT
END:VCALENDAR