BEGIN:VCALENDAR
METHOD:PUBLISH
PRODID:-//Weblication CMS
VERSION:2.0
BEGIN:VEVENT
SUMMARY:Musical Oberstufe 2026
DTSTART:20260521T193000
DTEND:20260521T220000
DESCRIPTION:
LOCATION:
UID:http://steffisburg.gemeinde.ch/schule/veranstaltungen/termine/Musical-Oberstufe-2026.php
URL:http://steffisburg.gemeinde.ch/schule/veranstaltungen/termine/Musical-Oberstufe-2026.php
END:VEVENT
BEGIN:VEVENT
SUMMARY:Musical Oberstufe 2026
DTSTART:20260527T193000
DTEND:20260527T220000
DESCRIPTION:
LOCATION:
UID:http://steffisburg.gemeinde.ch/schule/veranstaltungen/termine/Musical-Oberstufe-2026.php
URL:http://steffisburg.gemeinde.ch/schule/veranstaltungen/termine/Musical-Oberstufe-2026.php
END:VEVENT
BEGIN:VEVENT
SUMMARY:Musical Oberstufe 2026
DTSTART:20260529T193000
DTEND:20260529T220000
DESCRIPTION:
LOCATION:
UID:http://steffisburg.gemeinde.ch/schule/veranstaltungen/termine/Musical-Oberstufe-2026.php
URL:http://steffisburg.gemeinde.ch/schule/veranstaltungen/termine/Musical-Oberstufe-2026.php
END:VEVENT
BEGIN:VEVENT
SUMMARY:Musical Oberstufe 2026
DTSTART:20260530T193000
DTEND:20260530T220000
DESCRIPTION:
LOCATION:
UID:http://steffisburg.gemeinde.ch/schule/veranstaltungen/termine/Musical-Oberstufe-2026.php
URL:http://steffisburg.gemeinde.ch/schule/veranstaltungen/termine/Musical-Oberstufe-2026.php
END:VEVENT
END:VCALENDAR