BEGIN:VCALENDAR
METHOD:PUBLISH
PRODID:-//Weblication CMS
VERSION:2.0
BEGIN:VEVENT
SUMMARY:Maibummel, PS Zulg
DTSTART:20260507T000000
DTEND:20260507T000000
DESCRIPTION:
LOCATION:
UID:http://steffisburg.gemeinde.ch/schule/veranstaltungen/termine/Maibummel-PS-Zulg-3.php
URL:http://steffisburg.gemeinde.ch/schule/veranstaltungen/termine/Maibummel-PS-Zulg-3.php
END:VEVENT
END:VCALENDAR