BEGIN:VCALENDAR
METHOD:PUBLISH
PRODID:-//Weblication CMS
VERSION:2.0
BEGIN:VEVENT
SUMMARY:Handball-Schülerturnier
DTSTART;VALUE=DATE:20220514
DTEND;VALUE=DATE:20220515
DESCRIPTION:
LOCATION:
UID:http://steffisburg.gemeinde.ch/schule/veranstaltungen/termine/Handball-Schuelerturnier.php
URL:http://steffisburg.gemeinde.ch/schule/veranstaltungen/termine/Handball-Schuelerturnier.php
END:VEVENT
END:VCALENDAR