BEGIN:VCALENDAR
METHOD:PUBLISH
PRODID:-//Weblication CMS
VERSION:2.0
BEGIN:VEVENT
SUMMARY:Ausstellung, PS Zulg
DTSTART:20260630T170000
DTEND:20260630T190000
DESCRIPTION:
LOCATION:
UID:http://steffisburg.gemeinde.ch/schule/veranstaltungen/termine/Ausstellung-PS-Zulg.php
URL:http://steffisburg.gemeinde.ch/schule/veranstaltungen/termine/Ausstellung-PS-Zulg.php
END:VEVENT
END:VCALENDAR