BEGIN:VCALENDAR
VERSION:2.0
PRODID:-//steffisburg.gemeinde.ch//NONSGML kigkonsult.se iCalcreator 2.22//
CALSCALE:GREGORIAN
METHOD:PUBLISH
X-WR-TIMEZONE','EUROPE/BERLIN:
BEGIN:VEVENT
UID:20260419T135311CEST-0965EPcoLe@steffisburg.gemeinde.ch
DTSTAMP:20260419T115311Z
DESCRIPTION:Klicken Sie auf den folgenden Link\, um weitere Informationen z
 ur Veranstaltung zu erhalten:\nhttp://steffisburg.gemeinde.ch/de/veranstal
 tungen/detail/detail.php?i=4746
DTSTART:20260822T100000
DTEND:20260822T123000
LOCATION:Hof Schlafhus
SUMMARY:Bachwochen Thun: Hofkonzert Schlafhus
END:VEVENT
END:VCALENDAR
