BEGIN:VCALENDAR
VERSION:2.0
PRODID:-//steffisburg.gemeinde.ch//NONSGML kigkonsult.se iCalcreator 2.22//
CALSCALE:GREGORIAN
METHOD:PUBLISH
X-WR-TIMEZONE','EUROPE/BERLIN:
BEGIN:VEVENT
UID:20260419T135310CEST-6042VEFhF9@steffisburg.gemeinde.ch
DTSTAMP:20260419T115310Z
DESCRIPTION:Klicken Sie auf den folgenden Link\, um weitere Informationen z
 ur Veranstaltung zu erhalten:\nhttp://steffisburg.gemeinde.ch/de/veranstal
 tungen/detail/detail.php?i=4744
DTSTART:20260608T190000
DTEND:20260608T203000
LOCATION:Schloss Thun
SUMMARY:Justizreihe – Ein Fall für das Gericht: Wie lautet das Urteil?
END:VEVENT
END:VCALENDAR
