BEGIN:VCALENDAR
VERSION:2.0
PRODID:-//steffisburg.gemeinde.ch//NONSGML kigkonsult.se iCalcreator 2.22//
CALSCALE:GREGORIAN
METHOD:PUBLISH
X-WR-TIMEZONE','EUROPE/BERLIN:
BEGIN:VEVENT
UID:20260419T135311CEST-5005c906I7@steffisburg.gemeinde.ch
DTSTAMP:20260419T115311Z
DESCRIPTION:Klicken Sie auf den folgenden Link\, um weitere Informationen z
 ur Veranstaltung zu erhalten:\nhttp://steffisburg.gemeinde.ch/de/veranstal
 tungen/detail/detail.php?i=4743
DTSTART:20260519T190000
DTEND:20260519T203000
LOCATION:Schloss Thun
SUMMARY:Justizreihe – Ein Fall für die Staatsanwaltschaft: Wie lautet die A
 nklage? 
END:VEVENT
END:VCALENDAR
