BEGIN:VCALENDAR
VERSION:2.0
PRODID:-//steffisburg.gemeinde.ch//NONSGML kigkonsult.se iCalcreator 2.22//
CALSCALE:GREGORIAN
METHOD:PUBLISH
X-WR-TIMEZONE','EUROPE/BERLIN:
BEGIN:VEVENT
UID:20260419T135310CEST-8954jiOFj5@steffisburg.gemeinde.ch
DTSTAMP:20260419T115310Z
DESCRIPTION:Klicken Sie auf den folgenden Link\, um weitere Informationen z
 ur Veranstaltung zu erhalten:\nhttp://steffisburg.gemeinde.ch/de/veranstal
 tungen/detail/detail.php?i=4735
DTSTART:20260606T100000
DTEND:20260606T130000
LOCATION:Aula Schönau
SUMMARY:Spielzeug-Flohmarkt
END:VEVENT
END:VCALENDAR
