BEGIN:VCALENDAR
VERSION:2.0
PRODID:-//steffisburg.gemeinde.ch//NONSGML kigkonsult.se iCalcreator 2.22//
CALSCALE:GREGORIAN
METHOD:PUBLISH
X-WR-TIMEZONE','EUROPE/BERLIN:
BEGIN:VEVENT
UID:20260419T135310CEST-3822nr4jVb@steffisburg.gemeinde.ch
DTSTAMP:20260419T115310Z
DESCRIPTION:Klicken Sie auf den folgenden Link\, um weitere Informationen z
 ur Veranstaltung zu erhalten:\nhttp://steffisburg.gemeinde.ch/de/veranstal
 tungen/detail/detail.php?i=4722
DTSTART:20270430T180000
DTEND:20270430T210000
LOCATION:Restaurant
SUMMARY:Musigabe
END:VEVENT
END:VCALENDAR
