BEGIN:VCALENDAR
VERSION:2.0
PRODID:-//steffisburg.gemeinde.ch//NONSGML kigkonsult.se iCalcreator 2.22//
CALSCALE:GREGORIAN
METHOD:PUBLISH
X-WR-TIMEZONE','EUROPE/BERLIN:
BEGIN:VEVENT
UID:20260419T152024CEST-0037g0srOW@steffisburg.gemeinde.ch
DTSTAMP:20260419T132024Z
DESCRIPTION:Klicken Sie auf den folgenden Link\, um weitere Informationen z
 ur Veranstaltung zu erhalten:\nhttp://steffisburg.gemeinde.ch/de/veranstal
 tungen/detail/detail.php?i=4645
DTSTART:20260614T100000
DTEND:20260614T120000
LOCATION:Begegnungszentrum von UND Generationentandem
SUMMARY:Schach am Samstag für alle
END:VEVENT
END:VCALENDAR
