BEGIN:VCALENDAR
VERSION:2.0
PRODID:-//steffisburg.gemeinde.ch//NONSGML kigkonsult.se iCalcreator 2.22//
CALSCALE:GREGORIAN
METHOD:PUBLISH
X-WR-TIMEZONE','EUROPE/BERLIN:
BEGIN:VEVENT
UID:20260419T135635CEST-8940MVCtO8@steffisburg.gemeinde.ch
DTSTAMP:20260419T115635Z
DESCRIPTION:Klicken Sie auf den folgenden Link\, um weitere Informationen z
 ur Veranstaltung zu erhalten:\nhttp://steffisburg.gemeinde.ch/de/veranstal
 tungen/detail/detail.php?i=4617
DTSTART:20260811T190000
DTEND:20260811T000000
LOCATION:Begegnungszentrum von UND Generationentandem
SUMMARY:Zäme spile 
END:VEVENT
END:VCALENDAR
