BEGIN:VCALENDAR
VERSION:2.0
PRODID:-//steffisburg.gemeinde.ch//NONSGML kigkonsult.se iCalcreator 2.22//
CALSCALE:GREGORIAN
METHOD:PUBLISH
X-WR-TIMEZONE','EUROPE/BERLIN:
BEGIN:VEVENT
UID:20260419T135511CEST-2984vpdG9F@steffisburg.gemeinde.ch
DTSTAMP:20260419T115511Z
DESCRIPTION:Klicken Sie auf den folgenden Link\, um weitere Informationen z
 ur Veranstaltung zu erhalten:\nhttp://steffisburg.gemeinde.ch/de/veranstal
 tungen/detail/detail.php?i=4562
DTSTART:20260819T093000
DTEND:20260819T113000
LOCATION:Begegnungszentrum von UND Generationentandem
SUMMARY:Zäme lisme
END:VEVENT
END:VCALENDAR
