BEGIN:VCALENDAR
VERSION:2.0
PRODID:-//steffisburg.gemeinde.ch//NONSGML kigkonsult.se iCalcreator 2.22//
CALSCALE:GREGORIAN
METHOD:PUBLISH
X-WR-TIMEZONE','EUROPE/BERLIN:
BEGIN:VEVENT
UID:20260419T135635CEST-2543wRxPHn@steffisburg.gemeinde.ch
DTSTAMP:20260419T115635Z
DESCRIPTION:Klicken Sie auf den folgenden Link\, um weitere Informationen z
 ur Veranstaltung zu erhalten:\nhttp://steffisburg.gemeinde.ch/de/veranstal
 tungen/detail/detail.php?i=4412
DTSTART:20260425T090000
DTEND:20260425T110000
LOCATION:Kirchgemeindehaus Oberdorf
SUMMARY:Tankstelle\; Biblische Impulse für den Lebensalltag\, Gemeinschaft 
 und gute Gespräche
END:VEVENT
END:VCALENDAR
