BEGIN:VCALENDAR
VERSION:2.0
PRODID:-//steffisburg.gemeinde.ch//NONSGML kigkonsult.se iCalcreator 2.22//
CALSCALE:GREGORIAN
METHOD:PUBLISH
X-WR-TIMEZONE','EUROPE/BERLIN:
BEGIN:VEVENT
UID:20260419T135757CEST-1737fV9B3B@steffisburg.gemeinde.ch
DTSTAMP:20260419T115757Z
DESCRIPTION:Klicken Sie auf den folgenden Link\, um weitere Informationen z
 ur Veranstaltung zu erhalten:\nhttp://steffisburg.gemeinde.ch/de/veranstal
 tungen/detail/detail.php?i=4188
DTSTART:20260501T150000
DTEND:20260502T100000
LOCATION:Kirchgemeindehaus Glockental
SUMMARY:Filmmarathon
END:VEVENT
END:VCALENDAR
