BEGIN:VCALENDAR
VERSION:2.0
PRODID:-//steffisburg.gemeinde.ch//NONSGML kigkonsult.se iCalcreator 2.22//
CALSCALE:GREGORIAN
METHOD:PUBLISH
X-WR-TIMEZONE','EUROPE/BERLIN:
BEGIN:VEVENT
UID:20260419T152005CEST-8431GK0Rum@steffisburg.gemeinde.ch
DTSTAMP:20260419T132005Z
DESCRIPTION:Klicken Sie auf den folgenden Link\, um weitere Informationen z
 ur Veranstaltung zu erhalten:\nhttp://steffisburg.gemeinde.ch/de/veranstal
 tungen/detail/detail.php?i=4152
DTSTART:20260424T120000
DTEND:20260424T133000
LOCATION:Kirchgemeindehaus Glockental
SUMMARY:Preteens - für alle 3. bis 5. Klasse - inkl. Mittagessen
END:VEVENT
END:VCALENDAR
