BEGIN:VCALENDAR
VERSION:2.0
PRODID:-//steffisburg.gemeinde.ch//NONSGML kigkonsult.se iCalcreator 2.22//
CALSCALE:GREGORIAN
METHOD:PUBLISH
X-WR-TIMEZONE','EUROPE/BERLIN:
BEGIN:VEVENT
UID:20260419T152056CEST-2460vh0lx7@steffisburg.gemeinde.ch
DTSTAMP:20260419T132056Z
DESCRIPTION:Klicken Sie auf den folgenden Link\, um weitere Informationen z
 ur Veranstaltung zu erhalten:\nhttp://steffisburg.gemeinde.ch/de/veranstal
 tungen/detail/detail.php?i=4140
DTSTART:20260509T140000
DTEND:20260509T170000
LOCATION:Beim KGH Glockental
SUMMARY:Cevi Jungschar & Fröschli
END:VEVENT
END:VCALENDAR
