BEGIN:VCALENDAR
VERSION:2.0
PRODID:-//steffisburg.gemeinde.ch//NONSGML kigkonsult.se iCalcreator 2.22//
CALSCALE:GREGORIAN
METHOD:PUBLISH
X-WR-TIMEZONE','EUROPE/BERLIN:
BEGIN:VEVENT
UID:20260419T164943CEST-2576fHKGn1@steffisburg.gemeinde.ch
DTSTAMP:20260419T144943Z
DESCRIPTION:Klicken Sie auf den folgenden Link\, um weitere Informationen z
 ur Veranstaltung zu erhalten:\nhttp://steffisburg.gemeinde.ch/de/abfallwir
 tschaft/abfallkalender/detail/detail.php?i=
DTSTART;VALUE=DATE:20260713
LOCATION:Ortsteil Schwendibach
SUMMARY:Karton
END:VEVENT
END:VCALENDAR
