BEGIN:VCALENDAR
VERSION:2.0
PRODID:-//steffisburg.gemeinde.ch//NONSGML kigkonsult.se iCalcreator 2.22//
CALSCALE:GREGORIAN
METHOD:PUBLISH
X-WR-TIMEZONE','EUROPE/BERLIN:
BEGIN:VEVENT
UID:20260419T165020CEST-5675ZxKDtO@steffisburg.gemeinde.ch
DTSTAMP:20260419T145020Z
DESCRIPTION:Klicken Sie auf den folgenden Link\, um weitere Informationen z
 ur Veranstaltung zu erhalten:\nhttp://steffisburg.gemeinde.ch/de/abfallwir
 tschaft/abfallkalender/detail/detail.php?i=
DTSTART;VALUE=DATE:20260817
LOCATION:Zone 2
SUMMARY:Papier
END:VEVENT
END:VCALENDAR
